BEGIN:VCALENDAR
VERSION:2.0
PRODID:-//Ready Set Gwinnett - ECPv6.15.20//NONSGML v1.0//EN
CALSCALE:GREGORIAN
METHOD:PUBLISH
X-ORIGINAL-URL:https://www.readysetgwinnett.com
X-WR-CALDESC:Events for Ready Set Gwinnett
REFRESH-INTERVAL;VALUE=DURATION:PT1H
X-Robots-Tag:noindex
X-PUBLISHED-TTL:PT1H
BEGIN:VTIMEZONE
TZID:America/New_York
BEGIN:DAYLIGHT
TZOFFSETFROM:-0500
TZOFFSETTO:-0400
TZNAME:EDT
DTSTART:20240310T070000
END:DAYLIGHT
BEGIN:STANDARD
TZOFFSETFROM:-0400
TZOFFSETTO:-0500
TZNAME:EST
DTSTART:20241103T060000
END:STANDARD
BEGIN:DAYLIGHT
TZOFFSETFROM:-0500
TZOFFSETTO:-0400
TZNAME:EDT
DTSTART:20250309T070000
END:DAYLIGHT
BEGIN:STANDARD
TZOFFSETFROM:-0400
TZOFFSETTO:-0500
TZNAME:EST
DTSTART:20251102T060000
END:STANDARD
BEGIN:DAYLIGHT
TZOFFSETFROM:-0500
TZOFFSETTO:-0400
TZNAME:EDT
DTSTART:20260308T070000
END:DAYLIGHT
BEGIN:STANDARD
TZOFFSETFROM:-0400
TZOFFSETTO:-0500
TZNAME:EST
DTSTART:20261101T060000
END:STANDARD
END:VTIMEZONE
BEGIN:VEVENT
DTSTART;TZID=America/New_York:20251020T100000
DTEND;TZID=America/New_York:20251023T120000
DTSTAMP:20260423T133228
CREATED:20250821T131955Z
LAST-MODIFIED:20250821T131959Z
UID:10006748-1760954400-1761220800@www.readysetgwinnett.com
SUMMARY:Fall Adventure Club (Ages 2-5) Must Register
DESCRIPTION:Fall Adventure Club \n\n\n\nLearn about Georgia’s fall forest friends\, like squirrels\, bats\, owls and more! Grab a free tote on your first visit and return for new adventures and educational giveaways. Starting in September! \n\n\n\n \n\n\n\nAges: 2-5Fee: FREEFor more information: 770-904-3500 \n\n\n\nEvent By: Building Brains (B2) Anywhere➡️ SEE FALL ADVENTURE DETAILS & REGISTER HERE \n\n\n\n\n\n\n\nWhen: 1) Mondays  (10:00am-11:00am)George Pierce Park\, SuwaneeSeptember 15 & 22October 13 & 20November 10 & 17 \n\n\n\n \n\n\n\n2) Tuesdays  (10:00am-11:00am)Best Friend Park\, NorcrossSeptember 16 & 23October 14 & 21November 11 & 18 \n\n\n\n \n\n\n\n3) Wednesdays (10:00am-11:00am)Gwinnett Community Resource Center at Bethany Church Road\, SnellvilleFormerly OneStop CentervilleSeptember 17 & 24October 15 & 22November 12 & 19 \n\n\n\n \n\n\n\n3) Thursdays (10:00am-11:00am or 11:00am – Noon) Gwinnett Environmental & Heritage Center\, BufordSeptember 18 & 25October 16 & 23November 13 & 20➡️➡️ SEE FALL ADVENTURE DETAILS & REGISTER HERE \n\n\n\n\n\n\n\n\n\n\n\n\nSee S.T.E.A.M. Events\n\n\n\nCLICK HERE\n\n\n\n \n\n\n\n\n\n\n\n\n\n\n\n\n\n\n\n\n\n\n\n\nDon’t miss a thing!Sign up for the RSG e-newsletter!Follow RSG on Facebook and Instagram!** RETURN TO GWINNETT EVENT CALENDAR HERE **
URL:https://www.readysetgwinnett.com/event/fall-adventure-club-ages-2-5-must-register-4/
END:VEVENT
BEGIN:VEVENT
DTSTART;TZID=America/New_York:20251001T120000
DTEND;TZID=America/New_York:20251101T170000
DTSTAMP:20260423T133228
CREATED:20250925T180750Z
LAST-MODIFIED:20250925T180843Z
UID:10007028-1759320000-1762016400@www.readysetgwinnett.com
SUMMARY:Create Your Fall Traditions at Warbington Farms!
DESCRIPTION:🍂 Create Your Fall Traditions at Warbington Farms! 🍂 \n\n\n\nMake this fall one your family will always remember at Warbington Farms in Cumming\, GA! \n\n\n\n🎃 Wander the pumpkin patch 🌽 Get lost in the corn maze 🐄 Take a hayride to feed the cows🐐 Visit their friendly barnyard animals🛝 Race down Elroy’s Run mega slide💨 Jump on the giant pillows🌻 Stroll the U-Cut flower field…and enjoy SO much more! \n\n\n\n \n\n\n\n\n\n\n\n\n\n\n\n\n\n\n\n\n\n\n\n🎟️ Admission Prices – Fall 2025 \n\n\n\n\nAges 4–59: $15.75\n\n\n\nSeniors: $12.75\n\n\n\nMilitary: $14.75\n\n\n\nAges 3 & under: Free\n\n\n\n\n💲 Save Money – Get Your Discounted Tickets Online✨ Unlimited visits? Grab a Season Pass and go back all season long.🎟️ Discounts for seniors & military. Kids 3 & under are always free! \n\n\n\n\nDISCOUNTED TICKETS –  ONLINE\n\n\n\n\n\n\n\n\n👉 Admission includes:unlimited access to the corn maze\, hayride to feed the cows\, barnyard animals\, slides\, swings\, jumping pillows\, corn cribs\, and more!(Pumpkins\, flowers\, concessions\, and store items are sold separately. You don’t need a ticket to shop in the farm store or pumpkin patch.) \n\n\n\n\n\n\n\nTake your family\, make memories\, and start a new tradition at Warbington Farms this fall! \n\n\n\n \n\n\n\n🗓️ When: Starting October 1st: Open Daily Mon – Sat (Closed Sundays)Weds Oct 1: 12-6Thur Oct 2: 12-6Fri Oct 3: 12-7Sat Oct 4: 10-7Mon Oct 6: 12-6Tues Oct 7: 12-6Weds Oct 8: 12-6Thur Oct 9: 10-6 Pumpkin HomeschoolFri Oct 10: 12-7Sat Oct 11: 10-7🌽 Click HERE to See The Schedule \n\n\n\n\n\n\n\n 🌽 Click HERE to See The Schedule\n\n\n\n\n\n\n\n📍 Where: Warbington Farms (Cumming)\,5555 Crow Rd\, Cumming\, Georgia 30041 📞 770-889-1515Note: Warbington Farms is located in Cumming\, Georgia — about 30 miles northwest of the Mall of Georgia (Buford). (about 35-40 minute drive\, with no traffic)💻 SEE FULL DETAILS & 🎟️ Get Tickets Here: WarbingtonFarms.com \n\n\n\n\n\n\n\n* SEE FULL GWINNETT EVENT CALENDAR HERE * \n\n\n\n\n\n\n\nDon’t miss a thing!Sign up for the RSG e-newsletter!Follow RSG on Facebook and Instagram!
URL:https://www.readysetgwinnett.com/event/create-your-fall-traditions-at-warbington-farms/
CATEGORIES:family-friendly
END:VEVENT
BEGIN:VEVENT
DTSTART;TZID=America/New_York:20250930T000000
DTEND;TZID=America/New_York:20251031T235959
DTSTAMP:20260423T133228
CREATED:20250929T224537Z
LAST-MODIFIED:20250929T224542Z
UID:10007064-1759190400-1761955199@www.readysetgwinnett.com
SUMMARY:Learn Chess at Chess for Champs (Ages 6-Adult)
DESCRIPTION:Chess for Champs – Lilburn Chess Club  \n\n\n\nWe’ve updated our schedule and details to make joining in even easier and more fun. No matter your age or skill level\, there’s a seat at the board waiting for you. \n\n\n\nCome out\, play\, learn\, and enjoy the game in a welcoming community. \n\n\n\n“The beauty of chess is it can be enjoyed by all ages\, all levels\, anytime.” \n\n\n\n➡️➡️ Sign up HERE on Eventbrite  \n\n\n\n Call/text Coach Chris at 404-274-7058 \n\n\n\nVisit: www.ChessforChamps.com \n\n\n\nWhether your child wants to build focus\, make friends\, or master strategy\, Chess for Champs offers a community where kids can grow in skill and confidence. \n\n\n\n\n\n\n\n \n\n\n\n\n\n\n\n*SEE FULL GWINNETT EVENT CALENDAR HERE * \n\n\n\n\n\n\n\nDon’t miss a thing! \n\n\n\nSign up for the RSG e-newsletter!Follow RSG on Facebook and Instagram!
URL:https://www.readysetgwinnett.com/event/learn-chess-at-chess-for-champs-ages-6-adult/
ATTACH;FMTTYPE=image/jpeg:https://www.readysetgwinnett.com/wp-content/uploads/2025/09/555733964_122120968886973035_2507934571334975978_n.jpg
END:VEVENT
END:VCALENDAR